BEGIN:VCALENDAR
VERSION:2.0
PRODID:-//Carnica Zuchtgruppe Salzburg - ECPv6.15.20//NONSGML v1.0//EN
CALSCALE:GREGORIAN
METHOD:PUBLISH
X-WR-CALNAME:Carnica Zuchtgruppe Salzburg
X-ORIGINAL-URL:https://carnica-zuchtgruppe-salzburg.at
X-WR-CALDESC:Veranstaltungen für Carnica Zuchtgruppe Salzburg
REFRESH-INTERVAL;VALUE=DURATION:PT1H
X-Robots-Tag:noindex
X-PUBLISHED-TTL:PT1H
BEGIN:VTIMEZONE
TZID:Europe/Vienna
BEGIN:DAYLIGHT
TZOFFSETFROM:+0100
TZOFFSETTO:+0200
TZNAME:CEST
DTSTART:20250330T010000
END:DAYLIGHT
BEGIN:STANDARD
TZOFFSETFROM:+0200
TZOFFSETTO:+0100
TZNAME:CET
DTSTART:20251026T010000
END:STANDARD
BEGIN:DAYLIGHT
TZOFFSETFROM:+0100
TZOFFSETTO:+0200
TZNAME:CEST
DTSTART:20260329T010000
END:DAYLIGHT
BEGIN:STANDARD
TZOFFSETFROM:+0200
TZOFFSETTO:+0100
TZNAME:CET
DTSTART:20261025T010000
END:STANDARD
BEGIN:DAYLIGHT
TZOFFSETFROM:+0100
TZOFFSETTO:+0200
TZNAME:CEST
DTSTART:20270328T010000
END:DAYLIGHT
BEGIN:STANDARD
TZOFFSETFROM:+0200
TZOFFSETTO:+0100
TZNAME:CET
DTSTART:20271031T010000
END:STANDARD
END:VTIMEZONE
BEGIN:VEVENT
DTSTART;TZID=Europe/Vienna:20260508T200000
DTEND;TZID=Europe/Vienna:20260508T235900
DTSTAMP:20260420T050624
CREATED:20260116T112949Z
LAST-MODIFIED:20260116T130723Z
UID:2473-1778270400-1778284740@carnica-zuchtgruppe-salzburg.at
SUMMARY:Züchtergruppenbesprechung
DESCRIPTION:Belegstellenöffnung und Anlieferungszeiten der Belegstellen\nVerteilung der Neuen Belegstellenordnung für LS1 und LS5 mit den zu erwartenden Vererbungen\nBesprechung der neuen Körergebnisse (Bitte die neuen Körergebnisse mitnehmen!)\nFestlegung der Züchter und der Linien für die Vatervölker 2027\nVorerhebung der aktive Teilnehmer an unserer Leistungsprüfung 2026/27.
URL:https://carnica-zuchtgruppe-salzburg.at/index.php/event/zuechtergruppenbesprechung-8/
LOCATION:Gasthof Brückenwirt\, Brückenwirtweg 3\, Hallein\, Salzburg\, 5400\, Österreich
END:VEVENT
BEGIN:VEVENT
DTSTART;TZID=Europe/Vienna:20260605T200000
DTEND;TZID=Europe/Vienna:20260605T235900
DTSTAMP:20260420T050624
CREATED:20260116T113521Z
LAST-MODIFIED:20260116T133424Z
UID:2476-1780689600-1780703940@carnica-zuchtgruppe-salzburg.at
SUMMARY:Züchtergruppenbesprechung
DESCRIPTION:Züchter und Prüfer für die Leistungsprüfung 2026/27\nRichtlinien für die Leistungsprüfung 2026/27\nVerteilung der Versandkäfige\, Opalithplättchen etc. an die Züchter und Prüfer der Leistungsprüfung 2026/27\nDiverses\, Diskussion
URL:https://carnica-zuchtgruppe-salzburg.at/index.php/event/zuechtergruppenbesprechung-9/
LOCATION:Salzburg
END:VEVENT
BEGIN:VEVENT
DTSTART;TZID=Europe/Vienna:20260626T190000
DTEND;TZID=Europe/Vienna:20260626T235900
DTSTAMP:20260420T050624
CREATED:20260116T113618Z
LAST-MODIFIED:20260116T133018Z
UID:2479-1782500400-1782518340@carnica-zuchtgruppe-salzburg.at
SUMMARY:Züchtergruppenbesprechung – Königinnentausch
DESCRIPTION:Für die aktiven Teilnehmer an unserer Leistungsprüfung 2027 erfolgt die Verteilung der neuen Prüfköniginnen. \nBitte pünktlich kommen\, oder die Königinnen durch einen Kollegen zustellen bzw. abholen lassen! (Umlarven ca. Fr. 22.05.2026)
URL:https://carnica-zuchtgruppe-salzburg.at/index.php/event/zuechtergruppenbesprechung-koeniginnentausch-3/
LOCATION:Gasthof Brückenwirt\, Brückenwirtweg 3\, Hallein\, Salzburg\, 5400\, Österreich
END:VEVENT
BEGIN:VEVENT
DTSTART;TZID=Europe/Vienna:20260704T080000
DTEND;TZID=Europe/Vienna:20260704T150000
DTSTAMP:20260420T050624
CREATED:20260116T115131Z
LAST-MODIFIED:20260116T115131Z
UID:2490-1783152000-1783177200@carnica-zuchtgruppe-salzburg.at
SUMMARY:Königinnenmarkt am Imkerhof Salzburg
DESCRIPTION:
URL:https://carnica-zuchtgruppe-salzburg.at/index.php/event/koeniginnenmarkt-am-imkerhof-salzburg/
LOCATION:Imkerhof Salzburg\, Wolfgangseestraße 108\, Koppl bei Salzburg\, Salzburg\, 5321\, Österreich
ATTACH;FMTTYPE=image/jpeg:https://carnica-zuchtgruppe-salzburg.at/wp-content/uploads/2023/03/imkerhof_sgb.jpg
ORGANIZER;CN="Landesverband f%C3%BCr Imkerei und Bienenzucht in Salzburg":MAILTO:info@imkerhof-salzburg.at
END:VEVENT
BEGIN:VEVENT
DTSTART;VALUE=DATE:20260816
DTEND;VALUE=DATE:20260817
DTSTAMP:20260420T050624
CREATED:20260403T111957Z
LAST-MODIFIED:20260403T111957Z
UID:2622-1786838400-1786924799@carnica-zuchtgruppe-salzburg.at
SUMMARY:Ausflug zum 23. Österreichischen Honigfest in Hermagor
DESCRIPTION:  \n 
URL:https://carnica-zuchtgruppe-salzburg.at/index.php/event/ausflug-zum-23-oesterreichischen-honigfest-in-hermagor/
LOCATION:Salzburg
END:VEVENT
BEGIN:VEVENT
DTSTART;TZID=Europe/Vienna:20260904T200000
DTEND;TZID=Europe/Vienna:20260904T235900
DTSTAMP:20260420T050624
CREATED:20260116T113812Z
LAST-MODIFIED:20260116T133746Z
UID:2482-1788552000-1788566340@carnica-zuchtgruppe-salzburg.at
SUMMARY:Züchtergruppenbesprechung – Rückblick
DESCRIPTION:Rückblick des abgelaufenen Zuchtjahres\n\nBekanntgabe des Begattungserfolges von unseren 2 Belegstellen\n@Leistungsprüfer: Bitte Stockkarten mitnehmen zur Auswertung der Leistungsprüfung 2025/26  oder an Meierhofer Bernd senden.
URL:https://carnica-zuchtgruppe-salzburg.at/index.php/event/zuechtergruppenbesprechung-rueckblick-3/
LOCATION:Gasthof Brückenwirt\, Brückenwirtweg 3\, Hallein\, Salzburg\, 5400\, Österreich
END:VEVENT
END:VCALENDAR